BEGIN:VCALENDAR
VERSION:2.0
PRODID:-//CFR - ECPv6.7.0//NONSGML v1.0//EN
CALSCALE:GREGORIAN
METHOD:PUBLISH
X-WR-CALNAME:CFR
X-ORIGINAL-URL:https://cfr.com.pt
X-WR-CALDESC:Events for CFR
REFRESH-INTERVAL;VALUE=DURATION:PT1H
X-Robots-Tag:noindex
X-PUBLISHED-TTL:PT1H
BEGIN:VTIMEZONE
TZID:UTC
BEGIN:STANDARD
TZOFFSETFROM:+0000
TZOFFSETTO:+0000
TZNAME:UTC
DTSTART:20260101T000000
END:STANDARD
END:VTIMEZONE
BEGIN:VEVENT
DTSTART;VALUE=DATE:20260408
DTEND;VALUE=DATE:20260420
DTSTAMP:20260422T140147
CREATED:20241113T112159Z
LAST-MODIFIED:20260318T130914Z
UID:3313-1775606400-1776643199@cfr.com.pt
SUMMARY:TAT - Vila Real
DESCRIPTION:INSCREVER\n  \nInformaçõesUnidades TemáticasInformações \nLocal: Vila Real \nDestinatário: População em geral \nDuração: 50 horas \nDatas: 8\, 9\, 10 de Abril (Pós-laboral) \n11 e 12 de Abril \n15\, 16\,17 de Abril (Pós-laboral) \n18 e 19 de Abril \nAcreditação: INEM \n\nTRIPULANTE DE AMBULÂNCIA DE TRANSPORTE \nCom o Curso de Tripulante de Ambulância de Transporte (TAT)\, pretende-se dotar os formandos com as competências necessárias no âmbito da avaliação e estabilização da vítima\, realização de manobras de suporte básico de vida\, imobilização e transporte de vítimas de doença súbita e/ou trauma. \nInclui: \n\nCertificado válido por 5 anos\nManuais da formação\nKit Formando\nCartão de Tripulante de Ambulância de Transporte\n\nPré-requisitos obrigatórios dos formandos \n\nPara os formandos nascidos antes de 01-01-1967 – conclusão do 4º ano de escolaridade com aproveitamento (anterior 4ª classe/1º Ciclo do Ensino Básico);\nPara os formandos nascidos a partir de 01-01-1967 e até 31-12-1980\, inclusive – conclusão do 6º ano de escolaridade com aproveitamento (anterior do 2º ano do ciclo preparatório/2º Ciclo do Ensino Básico);\nPara os formandos que\, no ano letivo de 2009/2010\, se matricularem no 8º ano de escolaridade e seguintes\, comprovando esta matrícula\, a habilitação necessária é a conclusão do 9º ano de escolaridade com aproveitamento;\nPara os formandos que\, no ano letivo de 2009/2010\, se matricularem em qualquer um dos anos de escolaridade do 1º ao 7º ano\, a habilitação necessária é a conclusão do 12º ano de escolaridade com aproveitamento.\n\nCONSULTE AQUI A APRESENTAÇÃO DA FORMAÇÃO \nUnidades Temáticas \nUnidades Temáticas: \n\nAbordagem e Reanimação\nEmergências para TAT
URL:https://cfr.com.pt/cursos/tat-vila-real/
LOCATION:Vila Real\, Vila Real\, Vila Real\, Vila Real\, Portugal
ATTACH;FMTTYPE=image/png:https://cfr.com.pt/wp-content/uploads/2024/11/TAT-Vila-Real-Abril-site-scaled.png
END:VEVENT
BEGIN:VEVENT
DTSTART;VALUE=DATE:20260417
DTEND;VALUE=DATE:20260428
DTSTAMP:20260422T140147
CREATED:20250212T110523Z
LAST-MODIFIED:20260330T114453Z
UID:3454-1776384000-1777334399@cfr.com.pt
SUMMARY:RTAS - Mesão Frio
DESCRIPTION:INSCREVER\n  \nInformaçõesUnidades TemáticasInformações \nLocal: Mesão Frio \nDestinatário: TAS com certificação válida \nDuração: 35 horas \nData de Início: 17 a 27 de Abril \nAcreditação: INEM \n\nRECERTIFICAÇÃO TRIPULANTE DE AMBULÂNCIA DE SOCORRO \nCom o curso de Recertificação de TAS\, pretende-se dotar os formandos com as competências necessárias no âmbito da avaliação e estabilização da vítima\, realização de manobras de suporte básico de vida\, imobilização e transporte de vítimas de doença súbita e/ou trauma. \nInclui: \n\nCertificado válido por 5 anos\nManuais da formação\nKit Formando\nCartão de Tripulante de Ambulância de Socorro\n\nUnidades Temáticas \nUnidades Temáticas: \n\nSuporte Básico de Vida e DAE\nSuporte Básico de Vida Pediátrico\nCompetências Psicológicas\nWorkshop: Exame da vítima\, Emergências Obstétricas\, Pediátricas\, Médicas e de Trauma\nBancas Práticas: Emergências Obstétricas\, Pediátricas e Médicas\, Técnicas de Trauma e Emergências de Trauma\nRevisões e Avaliações
URL:https://cfr.com.pt/cursos/rtas-mesao-frio/
LOCATION:Privado: Mesão Frio\, Rua de Santo António\, Mesão Frio\, 5040-351\, Portugal
ATTACH;FMTTYPE=image/png:https://cfr.com.pt/wp-content/uploads/2025/02/site-RTAS-Mesao-Frio-scaled.png
END:VEVENT
BEGIN:VEVENT
DTSTART;TZID=UTC:20260421T152809
DTEND;TZID=UTC:20260421T152809
DTSTAMP:20260422T140147
CREATED:20241113T122023Z
LAST-MODIFIED:20260421T152809Z
UID:3316-1776785289-1776785289@cfr.com.pt
SUMMARY:Operações com Máquina de Rastos em Incêndios Rurais
DESCRIPTION:INSCREVER\n  \nInformaçõesUnidades TemáticasInformações \nFormato: B-Learning \nDestinatário: Agentes de Proteção Civil \nDuração: 25 horas \nAcreditação: DGERT \nLocal: Macedo de Cavaleiros \n\nDetalhes do Curso:  \n-Formação Online – 9 horas \n–Formação Presencial – 16 horas \nLimite: 16 formandos. \n\nInclui: \n\nCertificado DGERT\nAlojamento de sábado para domingo\nAlmoço e jantar no sábado e almoço no domingo\nUma t-shirt alusiva ao curso\nEmblema bordado do curso\n\nUnidades Temáticas \n\nPrincípios básicos do comportamento do fogo\nVerificação e manutenção básica\nOperações de combate a incêndios rurais\nSegurança na operação\nSegurança em operação de combate a incêndios rurais\n\nPratica/exercícios: Exercícios de campo diurnos e noturnos com tratores de rastos na simulação de diversos cenários no âmbito do combate aos incêndios rurais.
URL:https://cfr.com.pt/cursos/operacoes-com-maquina-de-rastos-em-incendios-rurais/
LOCATION:B-Learning
ATTACH;FMTTYPE=image/png:https://cfr.com.pt/wp-content/uploads/2024/11/MR-site-1-scaled.png
END:VEVENT
BEGIN:VEVENT
DTSTART;TZID=UTC:20260530T090000
DTEND;TZID=UTC:20260530T170000
DTSTAMP:20260422T140147
CREATED:20251110T164604Z
LAST-MODIFIED:20260422T124348Z
UID:3677-1780131600-1780160400@cfr.com.pt
SUMMARY:SBVDAE - Vila Real
DESCRIPTION:INSCREVER\nInformaçõesUnidades TemáticasInformações \nLocal: Vila Real \nDestinatário: População em geral \nDuração: 7 horas \nDatas Início: 30 de Maio de 2026 \nAcreditação: INEM \n\nO SUPORTE BÁSICO DE VIDA \nO Suporte Básico de Vida (SBV) é uma sequência de passos que permite reanimar uma vítima em paragem cardiorrespiratória (PCR). \nO Desfibrilhador Automático Externo foi criado no intuito de diminuir as mortes súbitas cardíacas causadas por uma arritmia cardíaca chamada fibrilação ventricular\, que impede o coração de bombear o sangue. A desfibrilhação elétrica consiste na administração de choques elétricos ao coração parado\, possibilitando que o ritmo cardíaco volte ao normal. Com este procedimento\, a probabilidade de sobrevivência é tanto maior quanto menor for o tempo decorrido entre a fibrilação e a desfibrilhação\, ou seja\, em caso de PCR\, os primeiros 3 a 4 minutos são cruciais para aplicar um choque à vítima e salvar-lhe a vida. \nInclui: \n\nCertificado válido por 5 anos\nManuais da formação\nKit Formando\n\nCONSULTE AQUI A APRESENTAÇÃO DA FORMAÇÃO \n  \nUnidades Temáticas \nUnidades Temáticas: \n\nIdentificar a cadeia de sobrevivência\nIdentificar riscos para a vítima e para o reanimador\nConhecer o algoritmo de Suporte Básico de Vida Adulto\nPosição Lateral de Segurança\nConhecer a manobra de Desobstrução de Via Aérea\nConhecer algoritmo de SBV com Desfibrilhação Automática Externa
URL:https://cfr.com.pt/cursos/sbvdae-vila-real-2026/
LOCATION:Vila Real\, Vila Real\, Vila Real\, Vila Real\, Portugal
ATTACH;FMTTYPE=image/png:https://cfr.com.pt/wp-content/uploads/2025/11/site-1-scaled.png
END:VEVENT
END:VCALENDAR